BEGIN:VCALENDAR
VERSION:2.0
PRODID:-//ChamberMaster//Event Calendar 2.0//EN
METHOD:PUBLISH
X-PUBLISHED-TTL:P3D
REFRESH-INTERVAL:P3D
CALSCALE:GREGORIAN
BEGIN:VEVENT
DTSTART:20200808T120000Z
DTEND:20200809T000000Z
X-MICROSOFT-CDO-ALLDAYEVENT:FALSE
SUMMARY:Summit Series Bracket Race
DESCRIPTION:Summit Series Bracket Race -The 2019 Summit ET Series at Atlanta Dragway will feature 6 classes of racing\, including Super Pro   Pro   Sportsman   Bikes\, Jr. Dragsters and Jr Street.
X-ALT-DESC;FMTTYPE=text/html:<span style="font-size:18px\;">Summit Series Bracket Race&nbsp\;</span>-<span style="font-size:18px\;"><span style="color: rgb(5\, 5\, 5)\; font-family: &quot\;Segoe UI Historic&quot\;\, &quot\;Segoe UI&quot\;\, Helvetica\, Arial\, sans-serif\; background-color: rgb(255\, 255\, 255)\;">The 2019 Summit ET Series at Atlanta Dragway will feature 6 classes of racing\, including Super Pro &ndash\; Pro &ndash\; Sportsman &ndash\; Bikes\, Jr. Dragsters and Jr Street.</span></span>
LOCATION:Atlanta Dragway 500 E Ridgeway Rd. Commerce\, GA 30529
UID:e.1877.4395
SEQUENCE:3
DTSTAMP:20260423T193051Z
URL:http://bankscounty.preview.gochambermaster.com/events/details/summit-series-bracket-race-4395
END:VEVENT

END:VCALENDAR
