BEGIN:VCALENDAR
VERSION:2.0
PRODID:-//ChamberMaster//Event Calendar 2.0//EN
METHOD:PUBLISH
X-PUBLISHED-TTL:P3D
REFRESH-INTERVAL:P3D
CALSCALE:GREGORIAN
BEGIN:VEVENT
DTSTART:20220319T120000Z
DTEND:20220319T160000Z
X-MICROSOFT-CDO-ALLDAYEVENT:FALSE
SUMMARY:Peace Place Presents Foliage Fest 5K
DESCRIPTION:Foliage Fest 5K will be help Saturday\, March 19\, 2022 at 127 Memorial Drive in Jefferson\, GA 30549/  Runners and Walkers Welcome.  Help Peace Place end Domestic Violence #commUNITY\n\nRegister by March 16th.  Check -In-starts at 8:00AM. Race Starts at 9:00AM.  For questions\, contact 770-307-3633 or peaceplace@peaceplaceinc.org.
X-ALT-DESC;FMTTYPE=text/html:Foliage Fest 5K will be help Saturday\, March 19\, 2022 at 127 Memorial Drive in Jefferson\, GA 30549/&nbsp\; Runners and Walkers Welcome.&nbsp\; Help Peace Place end Domestic Violence #commUNITY<br />\nRegister by March 16th.&nbsp\; Check -In-starts at 8:00AM. Race Starts at 9:00AM.&nbsp\; For questions\, contact 770-307-3633 or peaceplace@peaceplaceinc.org.
LOCATION:127 Memorial Drive Jefferson\, GA 30549
UID:e.1877.4927
SEQUENCE:3
DTSTAMP:20260421T232459Z
URL:http://bankscounty.preview.gochambermaster.com/events/details/peace-place-presents-foliage-fest-5k-4927
END:VEVENT

END:VCALENDAR
