BEGIN:VCALENDAR
VERSION:2.0
PRODID:-//ChamberMaster//Event Calendar 2.0//EN
METHOD:PUBLISH
X-PUBLISHED-TTL:P3D
REFRESH-INTERVAL:P3D
CALSCALE:GREGORIAN
BEGIN:VEVENT
DTSTART:20210326T120000Z
DTEND:20210328T120000Z
X-MICROSOFT-CDO-ALLDAYEVENT:FALSE
SUMMARY:NHRA 2021 Southern Nationals
DESCRIPTION:Atlanta Dragway Presents the 2021 NHRA Southern Nationals\n\n3 days of racing excitement.
X-ALT-DESC;FMTTYPE=text/html:<span style="font-size:24px\;">Atlanta Dragway Presents the 2021 NHRA Southern Nationals<br />\n3 days of racing excitement.&nbsp\;&nbsp\;</span>
LOCATION:Atlanta Dragway 500 E. Ridgeway Rd Commerce\, GA 30529
UID:e.1877.4657
SEQUENCE:3
DTSTAMP:20260423T014120Z
URL:http://bankscounty.preview.gochambermaster.com/events/details/nhra-2021-southern-nationals-4657
END:VEVENT

END:VCALENDAR
