BEGIN:VCALENDAR
VERSION:2.0
PRODID:-//ChamberMaster//Event Calendar 2.0//EN
METHOD:PUBLISH
X-PUBLISHED-TTL:P3D
REFRESH-INTERVAL:P3D
CALSCALE:GREGORIAN
BEGIN:VEVENT
DTSTART:20201210T124500Z
DTEND:20201210T140000Z
X-MICROSOFT-CDO-ALLDAYEVENT:FALSE
SUMMARY:Monthly Membership Breakfast
DESCRIPTION:Hello Everyone!\n\nPlease join us for the Chamber CVB Breakfast meeting the  2nd Thursday of each month at Banks County Board of Education Office. The breakfast will begin at 7:45 am with the program starting at 8:00 am. Charles Turk Commission Chairman will be speaking on State of the County.\n\n\n\n Visitors are always welcome.  See you there!!!\nThe DECEMBER MEMBERSHIP BREAKFAST Will be by RSVP Only for the first 25 people. Due to the Covid-19 pandemic\, We will be following Federal and State recommendations for Social Distancing. Mask is required! We will also be broadcasting Facebook live on the Banks County Chamber CVB fb page. We are very sorry for this inconvenience of not having you all with \n\nus and hope we will all be together soon. You may RSVP to tina@banksCountyga.info/alicia@bankscountyga.info\n\nor (706-335-4866).
X-ALT-DESC;FMTTYPE=text/html:<span style="font-family:arial\,sans-serif\;"><span style="font-size:9pt\;">Hello Everyone!</span></span><br />\n<span style="font-family:arial\,sans-serif\;"><span style="font-size:9pt\;">Please join us for the Chamber CVB Breakfast meeting the &nbsp\;2nd&nbsp\;Thursday of each month at Banks County Board of Education Office. The breakfast will begin at 7:45 am with the program starting at 8:00 am. Charles Turk Commission Chairman will be speaking on State of the County.</span></span><br />\n<br />\n<span style="font-family:arial\,sans-serif\;"><span style="font-size:9pt\;">&nbsp\;Visitors are always welcome. &nbsp\;See you there!!!</span></span>\n<div style="font-size: 14px\; color: rgb(68\, 68\, 68)\; font-family: Calibri\, Helvetica\, Arial\, sans-serif\; white-space: pre-wrap\; background-color: rgb(208\, 232\, 245)\;"><span style="font-size: 24px\; color: rgb(255\, 0\, 0)\;">The DECEMBER MEMBERSHIP BREAKFAST Will be by RSVP Only for the first 25 people. Due to the Covid-19 pandemic\, We will be following Federal&nbsp\;and State recommendations for Social Distancing. Mask is required! We will also be broadcasting Facebook live on the Banks County Chamber CVB fb page. We are very sorry for this inconvenience of not having you all with </span></div>\n\n<div style="font-size: 14px\; color: rgb(68\, 68\, 68)\; font-family: Calibri\, Helvetica\, Arial\, sans-serif\; white-space: pre-wrap\; background-color: rgb(208\, 232\, 245)\;"><span style="font-size: 24px\; color: rgb(255\, 0\, 0)\;">us and hope we will all be together soon. You may RSVP to tina@banksCountyga.info/<a href="mailto:alicia@bankscountyga.info" style="color: rgb(17\, 85\, 204)\;" target="_blank">alicia<wbr />@bankscountyga.info</a></span></div>\n\n<div style="font-size: 14px\; color: rgb(68\, 68\, 68)\; font-family: Calibri\, Helvetica\, Arial\, sans-serif\; white-space: pre-wrap\; background-color: rgb(208\, 232\, 245)\;"><span style="font-size: 24px\; color: rgb(255\, 0\, 0)\;">or (706-335-4866).</span></div>\n
LOCATION:Banks County Board of Education 1989 Historic Homer Hwy. Commerce\, GA 30529
UID:e.1877.4376
SEQUENCE:3
DTSTAMP:20260423T070348Z
URL:http://bankscounty.preview.gochambermaster.com/events/details/monthly-membership-breakfast-12-10-2020-4376
END:VEVENT

END:VCALENDAR
