BEGIN:VCALENDAR
VERSION:2.0
PRODID:-//ChamberMaster//Event Calendar 2.0//EN
METHOD:PUBLISH
X-PUBLISHED-TTL:P3D
REFRESH-INTERVAL:P3D
CALSCALE:GREGORIAN
BEGIN:VEVENT
DTSTART:20210211T124500Z
DTEND:20210211T140000Z
X-MICROSOFT-CDO-ALLDAYEVENT:FALSE
SUMMARY:Monthly Membership Breakfast
DESCRIPTION:PLEASE READ FULL ANNOUNCEMENT\n\n \n\nPlease join us for the Monthly Membership Breakfast meeting on the 2nd Thursday of each month. We will be meeting at The Banks County Board of Education building upstairs.  The breakfast will begin at 7:45 AM with the program starting at 8:00 A.M. \n\n \n\nThe February Speaker will be Adam Reynolds with "JENAD" Speaking on Communication and Leadership Development. Due to the Covid-19 pandemic\, we will be following Federal and State Recommendations for Social Distancing. Mask are required! We will also be broadcasting Facebook live on the Banks County Chamber CVB fb page. \n\n \n\n \n\nWe look forward to seeing you all very soon!\n\n \n\n \n\n \n\nVisitors are ALWAYS welcome! See you there!!
X-ALT-DESC;FMTTYPE=text/html:<div style="color: rgb(68\, 68\, 68)\; font-family: Calibri\, Helvetica\, Arial\, sans-serif\; font-size: 14px\; white-space: pre-wrap\; background-color: rgb(208\, 232\, 245)\; text-align: center\;"><span style="font-size: 16px\; color: rgb(70\, 125\, 198)\;">&nbsp\;</span></div>\n\n<div style="color: rgb(68\, 68\, 68)\; font-family: Calibri\, Helvetica\, Arial\, sans-serif\; font-size: 14px\; white-space: pre-wrap\; background-color: rgb(208\, 232\, 245)\; text-align: center\;"><span style="background-color: rgb(201\, 196\, 33)\; font-weight: bold\;">PLEASE READ FULL ANNOUNCEMENT</span></div>\n\n<div style="color: rgb(68\, 68\, 68)\; font-family: Calibri\, Helvetica\, Arial\, sans-serif\; font-size: 14px\; white-space: pre-wrap\; background-color: rgb(208\, 232\, 245)\; text-align: center\;">&nbsp\;</div>\n\n<div style="color: rgb(68\, 68\, 68)\; font-family: Calibri\, Helvetica\, Arial\, sans-serif\; font-size: 14px\; white-space: pre-wrap\; background-color: rgb(208\, 232\, 245)\;"><span style="font-size: 24px\; color: rgb(0\, 0\, 0)\;">Please join us for the&nbsp\;Monthly Membership&nbsp\;Breakfast meeting on the 2nd&nbsp\;Thursday of each month.&nbsp\;We will be meeting at The Banks County Board of Education building upstairs.&nbsp\;&nbsp\;The breakfast will begin at 7:45 AM with the program starting at 8:00 A.M.&nbsp\;</span></div>\n\n<div style="color: rgb(68\, 68\, 68)\; font-family: Calibri\, Helvetica\, Arial\, sans-serif\; font-size: 14px\; white-space: pre-wrap\; background-color: rgb(208\, 232\, 245)\;">&nbsp\;</div>\n\n<div style="color: rgb(68\, 68\, 68)\; font-family: Calibri\, Helvetica\, Arial\, sans-serif\; font-size: 14px\; white-space: pre-wrap\; background-color: rgb(208\, 232\, 245)\;"><span style="font-size: 24px\; color: rgb(255\, 0\, 0)\;">The February Speaker will be Adam Reynolds with &quot\;JENAD&quot\; Speaking on Communication and Leadership Development. Due to the Covid-19 pandemic\, we will be following Federal&nbsp\;and State Recommendations for Social Distancing. Mask are required! We will also be broadcasting Facebook live on the Banks County Chamber CVB fb page. </span></div>\n\n<div style="color: rgb(68\, 68\, 68)\; font-family: Calibri\, Helvetica\, Arial\, sans-serif\; font-size: 14px\; white-space: pre-wrap\; background-color: rgb(208\, 232\, 245)\;">&nbsp\;</div>\n\n<div style="color: rgb(68\, 68\, 68)\; font-family: Calibri\, Helvetica\, Arial\, sans-serif\; font-size: 14px\; white-space: pre-wrap\; background-color: rgb(208\, 232\, 245)\;">&nbsp\;</div>\n\n<div style="color: rgb(68\, 68\, 68)\; font-family: Calibri\, Helvetica\, Arial\, sans-serif\; font-size: 14px\; white-space: pre-wrap\; background-color: rgb(208\, 232\, 245)\;"><span style="font-size: 24px\; color: rgb(255\, 0\, 0)\;">We look forward to seeing you all very soon!</span></div>\n\n<div style="color: rgb(68\, 68\, 68)\; font-family: Calibri\, Helvetica\, Arial\, sans-serif\; font-size: 14px\; white-space: pre-wrap\; background-color: rgb(208\, 232\, 245)\; text-align: center\;">&nbsp\;</div>\n\n<div style="color: rgb(68\, 68\, 68)\; font-family: Calibri\, Helvetica\, Arial\, sans-serif\; font-size: 14px\; white-space: pre-wrap\; background-color: rgb(208\, 232\, 245)\; text-align: center\;"><span style="font-size: 16px\; color: rgb(70\, 125\, 198)\;">&nbsp\;</span></div>\n\n<div style="color: rgb(68\, 68\, 68)\; font-family: Calibri\, Helvetica\, Arial\, sans-serif\; font-size: 14px\; white-space: pre-wrap\; background-color: rgb(208\, 232\, 245)\; text-align: center\;">&nbsp\;</div>\n\n<div style="color: rgb(68\, 68\, 68)\; font-family: Calibri\, Helvetica\, Arial\, sans-serif\; font-size: 14px\; white-space: pre-wrap\; background-color: rgb(208\, 232\, 245)\; text-align: center\;"><span style="font-size: 22px\; color: rgb(0\, 0\, 0)\;">Visitors are&nbsp\;ALWAYS&nbsp\;welcome! See you there!!</span></div>\n
LOCATION:Banks County Board of Education 1989 Historic Homer Hwy. Commerce\, GA 30529
UID:e.1877.4408
SEQUENCE:3
DTSTAMP:20260423T033618Z
URL:http://bankscounty.preview.gochambermaster.com/events/details/monthly-membership-breakfast-02-11-2021-4408
END:VEVENT

END:VCALENDAR
