BEGIN:VCALENDAR
VERSION:2.0
PRODID:-//ChamberMaster//Event Calendar 2.0//EN
METHOD:PUBLISH
X-PUBLISHED-TTL:P3D
REFRESH-INTERVAL:P3D
CALSCALE:GREGORIAN
BEGIN:VEVENT
DTSTART:20181214T163000Z
DTEND:20181214T164500Z
X-MICROSOFT-CDO-ALLDAYEVENT:FALSE
SUMMARY:Miss Lynn's Thrift Store Ribbon Cutting
DESCRIPTION:Please join us Friday\, December 14th @ 11:30 a.m.\n\n Ribbon Cutting for Miss Lynn's Thrift Store. \n\n..
X-ALT-DESC;FMTTYPE=text/html:<p><br />\nPlease join us Friday\, December 14th @ 11:30 a.m.<br />\n&nbsp\;Ribbon Cutting for Miss Lynn&#39\;s Thrift Store.&nbsp\;<br />\n..<br />\n<br />\n&nbsp\;</p>\n
LOCATION:Miss Lynn's Thrift Store 1033 Historic Homer Hwy Homer\, GA 30547
UID:e.1877.4004
SEQUENCE:3
DTSTAMP:20260425T203855Z
URL:http://bankscounty.preview.gochambermaster.com/events/details/miss-lynn-s-thrift-store-ribbon-cutting-4004
END:VEVENT

END:VCALENDAR
