BEGIN:VCALENDAR
VERSION:2.0
PRODID:-//ChamberMaster//Event Calendar 2.0//EN
METHOD:PUBLISH
X-PUBLISHED-TTL:P3D
REFRESH-INTERVAL:P3D
CALSCALE:GREGORIAN
BEGIN:VEVENT
DTSTART:20210424T170000Z
DTEND:20210424T200000Z
X-MICROSOFT-CDO-ALLDAYEVENT:FALSE
SUMMARY:Lavender & Lace Afternoon Tea and Silent Auction
DESCRIPTION:Please Join Peace Place Inc.  for the 4th Annual Lavender & Lace Afternoon  Tea and Silent Auction.
X-ALT-DESC;FMTTYPE=text/html:<span style="font-size:20px\;">Please Join Peace Place Inc.&nbsp\; for the 4th Annual Lavender &amp\; Lace Afternoon&nbsp\; Tea and Silent Auction.</span>
LOCATION:First Baptist Church of Jefferson\, GA
UID:e.1877.4686
SEQUENCE:3
DTSTAMP:20260422T235458Z
URL:http://bankscounty.preview.gochambermaster.com/events/details/lavender-lace-afternoon-tea-and-silent-auction-4686
END:VEVENT

END:VCALENDAR
