BEGIN:VCALENDAR
VERSION:2.0
PRODID:-//ChamberMaster//Event Calendar 2.0//EN
METHOD:PUBLISH
X-PUBLISHED-TTL:P3D
REFRESH-INTERVAL:P3D
CALSCALE:GREGORIAN
BEGIN:VEVENT
DTSTART:20220806T220000Z
DTEND:20220807T000000Z
X-MICROSOFT-CDO-ALLDAYEVENT:FALSE
SUMMARY:JC Family connection Presents TEEN ROCK THE BLOCK PARTY 2022
DESCRIPTION:Jackson County Family Connections Present the Teen Rock the Block Party 2022. An event for yourth 6th Grade to 12th. Enjoy Music\, Dancing\, Fun Giveaways Encouragement\, & Really Amazing Pizza. The Tree House will have a table set up to help celebrate our teens and be a support system! Drawings for prizes\, airpods\, giftcards\, bluetooth speakers.
X-ALT-DESC;FMTTYPE=text/html:<span style="color: rgb(5\, 5\, 5)\; font-family: &quot\;Segoe UI Historic&quot\;\, &quot\;Segoe UI&quot\;\, Helvetica\, Arial\, sans-serif\; font-size: 30px\; white-space: pre-wrap\; background-color: rgb(255\, 255\, 255)\;">Jackson County Family Connections Present the Teen Rock the Block Party 2022. An event for yourth 6th Grade to 12th. Enjoy Music\, Dancing\, Fun Giveaways Encouragement\, &amp\; Really Amazing Pizza. The Tree House will have a table set up to help celebrate our teens and be a support system! Drawings for prizes\, airpods\, giftcards\, bluetooth speakers.</span>
LOCATION:The Jefferson Civic Center 65 Kissan St\, Jefferson\, GA 30549
UID:e.1877.4957
SEQUENCE:3
DTSTAMP:20260421T045915Z
URL:http://bankscounty.preview.gochambermaster.com/events/details/jc-family-connection-presents-teen-rock-the-block-party-2022-4957
END:VEVENT

END:VCALENDAR
