BEGIN:VCALENDAR
VERSION:2.0
PRODID:-//ChamberMaster//Event Calendar 2.0//EN
METHOD:PUBLISH
X-PUBLISHED-TTL:P3D
REFRESH-INTERVAL:P3D
CALSCALE:GREGORIAN
BEGIN:VEVENT
DTSTART:20210918T143000Z
DTEND:20210918T170000Z
X-MICROSOFT-CDO-ALLDAYEVENT:FALSE
SUMMARY:Jason Crabb
DESCRIPTION:Legacy Retreat Center in Homer\, GA is very excited to have  Jason Douglas Crabb a Christian music singer and musician. He has been the lead vocalist for the group The Crabb Family. Crabb was voted "Favorite Male Vocalist" at the inaugural Harmony Honors Awards and "Favorite Young Artist" at the 2000 Singing News Fan Awards.  Hope you can join us welcome Jason to Homer\, GA.
X-ALT-DESC;FMTTYPE=text/html:<span style="font-size:20px\;">Legacy Retreat Center in Homer\, GA is very excited to have&nbsp\;&nbsp\;<span style="color: rgb(77\, 81\, 86)\; font-family: Roboto\, arial\, sans-serif\; background-color: rgb(255\, 255\, 255)\;">Jason Douglas Crabb a Christian music singer and musician. He has been the lead vocalist for the group The Crabb Family. Crabb was voted "Favorite Male Vocalist" at the inaugural Harmony Honors Awards and "Favorite Young Artist" at the 2000 Singing News Fan Awards.&nbsp\; Hope you can join us welcome Jason to Homer\, GA.</span></span>
LOCATION:Legacy Retreat Center 1803 Wilson Bridge Rd. Homer\, GA 30547
UID:e.1877.4707
SEQUENCE:3
DTSTAMP:20260422T101256Z
URL:http://bankscounty.preview.gochambermaster.com/events/details/jason-crabb-4707
END:VEVENT

END:VCALENDAR
