BEGIN:VCALENDAR
VERSION:2.0
PRODID:-//ChamberMaster//Event Calendar 2.0//EN
METHOD:PUBLISH
X-PUBLISHED-TTL:P3D
REFRESH-INTERVAL:P3D
CALSCALE:GREGORIAN
BEGIN:VEVENT
DTSTART;VALUE=DATE:20180914
DTEND;VALUE=DATE:20180915
TRANSP:TRANSPARENT
X-MICROSOFT-CDO-ALLDAYEVENT:TRUE
SUMMARY:Hot Rod Magazine Drag Week
DESCRIPTION:
X-ALT-DESC;FMTTYPE=text/html:
LOCATION:Atlanta Dragway 500 East Ridgeway Rd. Commerce\, GA 30529
UID:e.1877.3940
SEQUENCE:3
DTSTAMP:20260426T004328Z
URL:http://bankscounty.preview.gochambermaster.com/events/details/hot-rod-magazine-drag-week-09-14-2018-3940
END:VEVENT

END:VCALENDAR
