BEGIN:VCALENDAR
VERSION:2.0
PRODID:-//ChamberMaster//Event Calendar 2.0//EN
METHOD:PUBLISH
X-PUBLISHED-TTL:P3D
REFRESH-INTERVAL:P3D
CALSCALE:GREGORIAN
BEGIN:VEVENT
DTSTART:20220329T140000Z
DTEND:20220329T170000Z
X-MICROSOFT-CDO-ALLDAYEVENT:FALSE
SUMMARY:Goodwill Spring Back to Work Job Fair
DESCRIPTION:Goodwill Weekly Spring Back to Work Job Fair.  Join us for fresh jobs in the Cornelia  community.
X-ALT-DESC;FMTTYPE=text/html:Goodwill Weekly Spring Back to Work Job Fair.&nbsp\; Join us for fresh jobs in the Cornelia&nbsp\; community.&nbsp\;
LOCATION:308 Habersham Hills Circle Cornelia\, GA 30531
UID:e.1877.4931
SEQUENCE:3
DTSTAMP:20260421T131008Z
URL:http://bankscounty.preview.gochambermaster.com/events/details/goodwill-spring-back-to-work-job-fair-4931
END:VEVENT

END:VCALENDAR
