BEGIN:VCALENDAR
VERSION:2.0
PRODID:-//ChamberMaster//Event Calendar 2.0//EN
METHOD:PUBLISH
X-PUBLISHED-TTL:P3D
REFRESH-INTERVAL:P3D
CALSCALE:GREGORIAN
BEGIN:VEVENT
DTSTART:20211012T190000Z
DTEND:20211012T210000Z
X-MICROSOFT-CDO-ALLDAYEVENT:FALSE
SUMMARY:Drive-Thru Food Pantry
DESCRIPTION:Banks County High School is having a Drive-Thru Food Pantry at the High School on Tuesday\, October 12 form 3-5 pm\, while supplies last.
X-ALT-DESC;FMTTYPE=text/html:<span style="font-size:20px\;">Banks County High School is having a Drive-Thru Food Pantry at the High School on Tuesday\, October 12 form 3-5 pm\, while supplies last.</span>
LOCATION:Banks county High School 1486 Historic Homer Hwy Homer\, GA 30547
UID:e.1877.4742
SEQUENCE:3
DTSTAMP:20260422T065118Z
URL:http://bankscounty.preview.gochambermaster.com/events/details/drive-thru-food-pantry-4742
END:VEVENT

END:VCALENDAR
