BEGIN:VCALENDAR
VERSION:2.0
PRODID:-//ChamberMaster//Event Calendar 2.0//EN
METHOD:PUBLISH
X-PUBLISHED-TTL:P3D
REFRESH-INTERVAL:P3D
CALSCALE:GREGORIAN
BEGIN:VEVENT
DTSTART:20231021T170000Z
DTEND:20231021T210000Z
X-MICROSOFT-CDO-ALLDAYEVENT:FALSE
SUMMARY:Commerce BBQ Festival
DESCRIPTION:Commerce Main Street is hosting their BBQ Festival Cookoff\, Chili contest\, Music\, Kids Zone & Craft Vendors\, Saturday\, October 14\, from 1-5 PM.  Bring the family for a Fun Fall Saturday filled with lots of great food and much more. For a application contract mainstreet@commercega.gov for an application.
X-ALT-DESC;FMTTYPE=text/html:Commerce Main Street is hosting their BBQ Festival Cookoff\, Chili contest\, Music\, Kids Zone &amp\; Craft Vendors\, Saturday\, October 14\, from 1-5 PM.&nbsp\; Bring the family for a Fun Fall Saturday filled with lots of great food and much more. For a application contract mainstreet@commercega.gov for an application.
LOCATION:Spencer Park\, Downtown Commerce\, GA
UID:e.1877.5087
SEQUENCE:3
DTSTAMP:20260419T234044Z
URL:http://bankscounty.preview.gochambermaster.com/events/details/commerce-bbq-festival-5087
END:VEVENT

END:VCALENDAR
