BEGIN:VCALENDAR
VERSION:2.0
PRODID:-//ChamberMaster//Event Calendar 2.0//EN
METHOD:PUBLISH
X-PUBLISHED-TTL:P3D
REFRESH-INTERVAL:P3D
CALSCALE:GREGORIAN
BEGIN:VEVENT
DTSTART:20211204T230000Z
DTEND:20211205T020000Z
X-MICROSOFT-CDO-ALLDAYEVENT:FALSE
SUMMARY:CHRISTMAS & COURTHOUSE WONDERLAND
DESCRIPTION:JOIN US FOR A LIGHTING OF THE CHRISTMAS TREE and   COURTHOUSE WONDERLAND~CARRIAGE RIDES~POLAR EXPRESS TRAIN~LIVE NATIVITY~ICE SKATING~OUTSIDE FESTIVAL OF TREES~ ELVE'S WORKSHOP~FOOD VENDORS
X-ALT-DESC;FMTTYPE=text/html:<span style="font-size:18px\;">JOIN US FOR A LIGHTING OF THE CHRISTMAS TREE and&nbsp\; &nbsp\;COURTHOUSE WONDERLAND~CARRIAGE RIDES~POLAR EXPRESS TRAIN~LIVE NATIVITY~ICE SKATING~OUTSIDE FESTIVAL OF TREES~ ELVE&#39\;S WORKSHOP~FOOD VENDORS</span>
LOCATION:Historic Downtown Toccoa
UID:e.1877.4756
SEQUENCE:3
DTSTAMP:20260422T011344Z
URL:http://bankscounty.preview.gochambermaster.com/events/details/christmas-courthouse-wonderland-4756
END:VEVENT

END:VCALENDAR
