BEGIN:VCALENDAR
VERSION:2.0
PRODID:-//ChamberMaster//Event Calendar 2.0//EN
METHOD:PUBLISH
X-PUBLISHED-TTL:P3D
REFRESH-INTERVAL:P3D
CALSCALE:GREGORIAN
BEGIN:VEVENT
DTSTART:20211120T150000Z
DTEND:20211121T000000Z
X-MICROSOFT-CDO-ALLDAYEVENT:FALSE
SUMMARY:Celebrate the Holidays in Braselton
DESCRIPTION:Join us as we celebrate the holidays in downtown Braselton on Saturday\, November 20\, 10 a.m. to 7 p.m. Festivities are planned throughout the day and include the popular parade through historic Downtown Braselton\, the annual Lighting of the Tree and much more!
X-ALT-DESC;FMTTYPE=text/html:<span style="color: rgb(51\, 51\, 51)\; font-family: Montserrat\, sans-serif\; font-size: small\; background-color: rgb(254\, 254\, 254)\;">Join us as we celebrate the holidays in downtown Braselton on Saturday\, November 20\, 10 a.m. to 7 p.m. Festivities are planned throughout the day and include the popular parade through historic Downtown Braselton\, the annual Lighting of the Tree and much more!</span>
LOCATION:Historic Downtown Braselton\, Ga
UID:e.1877.4750
SEQUENCE:3
DTSTAMP:20260422T045643Z
URL:http://bankscounty.preview.gochambermaster.com/events/details/celebrate-the-holidays-in-braselton-4750
END:VEVENT

END:VCALENDAR
