BEGIN:VCALENDAR
VERSION:2.0
PRODID:-//ChamberMaster//Event Calendar 2.0//EN
METHOD:PUBLISH
X-PUBLISHED-TTL:P3D
REFRESH-INTERVAL:P3D
CALSCALE:GREGORIAN
BEGIN:VEVENT
DTSTART:20190103T190000Z
DTEND:20190103T200000Z
X-MICROSOFT-CDO-ALLDAYEVENT:FALSE
SUMMARY:Called Social Committee Meeting January 3\, @ 2:00PM at Homer City Hall
DESCRIPTION:January Social Committee Meeting
X-ALT-DESC;FMTTYPE=text/html:January Social Committee Meeting
LOCATION:Homer City hall 943 Historic Homer Highway Homer\, GA 30547
UID:e.1877.3985
SEQUENCE:3
DTSTAMP:20260425T191944Z
URL:http://bankscounty.preview.gochambermaster.com/events/details/called-social-committee-meeting-january-3-2-00pm-at-homer-city-hall-3985
END:VEVENT

END:VCALENDAR
