BEGIN:VCALENDAR
VERSION:2.0
PRODID:-//ChamberMaster//Event Calendar 2.0//EN
METHOD:PUBLISH
X-PUBLISHED-TTL:P3D
REFRESH-INTERVAL:P3D
CALSCALE:GREGORIAN
BEGIN:VEVENT
DTSTART:20220704T210000Z
DTEND:20220705T013000Z
X-MICROSOFT-CDO-ALLDAYEVENT:FALSE
SUMMARY:Braselton 4th Festival & Fireworks
DESCRIPTION:Bring the family to Downtown Braselton to celebrate Independence Day with a patriotic parade\, festival and fireworks show on Monday\, July 4! Highlights include a concert on the Town Green\, kid-friendly activities\, food trucks\, local dining and shopping throughout downtown. Fireworks begin at dark.
X-ALT-DESC;FMTTYPE=text/html:<div class="dati1w0a f10w8fjw hv4rvrfc pybr56ya" style="padding: 12px 16px\; font-family: &quot\;Segoe UI Historic&quot\;\, &quot\;Segoe UI&quot\;\, Helvetica\, Arial\, sans-serif\; color: rgb(28\, 30\, 33)\; font-size: 12px\; background-color: rgb(255\, 255\, 255)\;">\n<div class="kbf60n1y btwxx1t3 j83agx80 cwj9ozl2" style="flex-direction: row\; background-color: var(--card-background)\; display: flex\; min-height: 40px\; font-family: inherit\;">\n<div class="buofh1pr" style="flex-grow: 1\; font-family: inherit\;">\n<div class="j83agx80 cbu4d94t ew0dbk1b irj2b8pg" style="flex-direction: column\; margin-bottom: -5px\; margin-top: -5px\; display: flex\; font-family: inherit\;">\n<div class="qzhwtbm6 knvmm38d" style="margin-top: 5px\; margin-bottom: 5px\; font-family: inherit\;">\n<h5 class="gmql0nx0 l94mrbxd p1ri9a11 lzcic4wl aahdfvyu hzawbc8m" style="color: inherit\; font-size: inherit\; font-weight: inherit\; margin: 4px 0px 0px\; padding: 0px\; outline: none\; font-family: inherit\;">&nbsp\;</h5>\n\n<div class="a3bd9o3v ekzkrbhg jq4qci2q" style="line-height: 1.3333\; font-size: 0.9375rem\; font-family: inherit\;">\n<div dir="ltr" style="font-family: inherit\;"><span class="d2edcug0 hpfvmrgz qv66sw1b c1et5uql lr9zc1uh a8c37x1j fe6kdd0r mau55g9w c8b282yb keod5gw0 nxhoafnm aigsh9s9 d3f4x2em iv3no6db jq4qci2q a3bd9o3v b1v8xokw oo9gr5id hzawbc8m" dir="auto" style="line-height: 1.3333\; display: block\; overflow-wrap: break-word\; max-width: 100%\; min-width: 0px\; font-size: 0.9375rem\; font-family: inherit\; color: var(--primary-text)\; word-break: break-word\;"><span style="color: rgb(47\, 46\, 46)\; font-family: brandon-grot-w01-light\, brandon-grot-w05-light\, sans-serif\; font-size: 18px\; white-space: pre-wrap\;">Bring the family to Downtown Braselton to celebrate Independence Day with a patriotic parade\, festival and fireworks show on Monday\, July 4! Highlights include a concert on the Town Green\, kid-friendly activities\, food trucks\, local dining and shopping throughout downtown. Fireworks begin at dark.</span></span></div>\n</div>\n</div>\n</div>\n</div>\n</div>\n</div>\n\n<div dir="auto" style="font-family: &quot\;Segoe UI Historic&quot\;\, &quot\;Segoe UI&quot\;\, Helvetica\, Arial\, sans-serif\; color: rgb(28\, 30\, 33)\; font-size: 12px\; background-color: rgb(255\, 255\, 255)\;">\n<div dir="auto" style="font-family: inherit\;">\n<div class="ecm0bbzt hv4rvrfc ihqw7lf3 dati1w0a" data-ad-comet-preview="message" data-ad-preview="message" style="padding: 4px 16px 16px\; font-family: inherit\;">\n<div class="j83agx80 cbu4d94t ew0dbk1b irj2b8pg" style="flex-direction: column\; margin-bottom: -5px\; margin-top: -5px\; display: flex\; font-family: inherit\;">\n<div class="qzhwtbm6 knvmm38d" style="margin-top: 5px\; margin-bottom: 5px\; font-family: inherit\;">\n<div class="cxmmr5t8 oygrvhab hcukyx3x c1et5uql o9v6fnle ii04i59q" style="overflow-wrap: break-word\; margin: 0.5em 0px 0px\; white-space: pre-wrap\; font-family: inherit\;">&nbsp\;</div>\n</div>\n</div>\n</div>\n</div>\n</div>\n
LOCATION:Downtown Braselton
UID:e.1877.4965
SEQUENCE:3
DTSTAMP:20260421T034416Z
URL:http://bankscounty.preview.gochambermaster.com/events/details/braselton-4th-festival-fireworks-4965
END:VEVENT

END:VCALENDAR
