BEGIN:VCALENDAR
VERSION:2.0
PRODID:-//ChamberMaster//Event Calendar 2.0//EN
METHOD:PUBLISH
X-PUBLISHED-TTL:P3D
REFRESH-INTERVAL:P3D
CALSCALE:GREGORIAN
BEGIN:VEVENT
DTSTART:20200616T170000Z
DTEND:20200616T180000Z
X-MICROSOFT-CDO-ALLDAYEVENT:FALSE
SUMMARY:Board of Directors Meeting
DESCRIPTION:Banks County Chamber CVB Board Of Directors Meeting\n\n\n\nBoard members please submit any new business by Monday to be placed on the agenda.\n\n\n\nWe will be having a Virtual Zoom Meeting.  Hopefully we will resume to regular scheduled in-person meetings starting in July.  We can discuss that on Tuesday.  See the Zoom information below:\n\n \n \n\nTopic: Banks County ChamberCVB Board Meeting\n\nTime: Jun 16\, 2020 01:00 PM Eastern Time (US and Canada)\n\n \n\nJoin Zoom Meeting\n\nhttps://us02web.zoom.us/j/81818847613?pwd=SWVGcE5uUlNDSTNZOGVVOVpOUkFOdz09\n\n \n\nMeeting ID: 818 1884 7613\n\nPassword: 324393\n\nOne tap mobile\n\n+19294362866\,\,81818847613#\,\,1#\,324393# US (New York)\n\n+13017158592\,\,81818847613#\,\,1#\,324393# US (Germantown)\n\n \n\nDial by your location\n\n        +1 929 436 2866 US (New York)\n\n        +1 301 715 8592 US (Germantown)\n\n        +1 312 626 6799 US (Chicago)\n\n        +1 669 900 6833 US (San Jose)\n\n        +1 253 215 8782 US (Tacoma)\n\n        +1 346 248 7799 US (Houston)\n\nMeeting ID: 818 1884 7613\n\nPassword: 324393\n\nFind your local number: https://us02web.zoom.us/u/kc1FwOfyL4
X-ALT-DESC;FMTTYPE=text/html:Banks County Chamber CVB Board Of Directors Meeting<br />\n<br />\n<b style="color: rgb(51\, 51\, 51)\; font-family: sans-serif\, Arial\, Verdana\, &quot\;Trebuchet MS&quot\;\; font-size: 18px\;">Board members please submit any new business by Monday to be placed on the agenda.</b><br />\n<br />\n<b style="color: rgb(51\, 51\, 51)\; font-family: sans-serif\, Arial\, Verdana\, &quot\;Trebuchet MS&quot\;\; font-size: 18px\;">We will be having a Virtual Zoom Meeting.&nbsp\; Hopefully we will resume to </b><span style="font-size: 18px\;"><b>regular</b></span><b style="color: rgb(51\, 51\, 51)\; font-family: sans-serif\, Arial\, Verdana\, &quot\;Trebuchet MS&quot\;\; font-size: 18px\;">&nbsp\;scheduled in-person meetings starting in July.&nbsp\; We can discuss that on Tuesday.&nbsp\; See the Zoom information below:</b><br />\n&nbsp\;\n<div>&nbsp\;</div>\n\n<div><span style="color:#c00000\;">Topic: Banks County ChamberCVB Board Meeting</span><br />\n<span style="color:#c00000\;">Time: Jun 16\, 2020 01:00 PM Eastern Time (US and Canada)</span><br />\n&nbsp\;<br />\n<span style="color:#c00000\;">Join Zoom Meeting</span><br />\n<span style="background:yellow\;"><span style="color:#c00000\;"><a data-saferedirecturl="https://www.google.com/url?q=https://us02web.zoom.us/j/81818847613?pwd%3DSWVGcE5uUlNDSTNZOGVVOVpOUkFOdz09&amp\;source=gmail&amp\;ust=1592082708991000&amp\;usg=AFQjCNHAc0Nt222DLIGP4BXsGQROoxKQgQ" href="https://us02web.zoom.us/j/81818847613?pwd=SWVGcE5uUlNDSTNZOGVVOVpOUkFOdz09" style="color:rgb(17\, 85\, 204)\;" target="_blank">https://us02web.zoom.us/j/<wbr />81818847613?pwd=<wbr />SWVGcE5uUlNDSTNZOGVVOVpOUkFOdz<wbr />09</a></span></span><br />\n&nbsp\;<br />\n<span style="color:#c00000\;">Meeting ID: 818 1884 7613</span><br />\n<span style="color:#c00000\;">Password: 324393</span><br />\n<span style="color:#c00000\;">One tap mobile</span><br />\n<span style="color:#c00000\;">+19294362866\,\,81818847613#\,\,1#<wbr />\,324393# US (New York)</span><br />\n<span style="color:#c00000\;">+13017158592\,\,81818847613#\,\,1#<wbr />\,324393# US (Germantown)</span><br />\n&nbsp\;<br />\n<span style="color:#c00000\;">Dial by your location</span><br />\n<span style="color:#c00000\;">&nbsp\;&nbsp\;&nbsp\;&nbsp\;&nbsp\;&nbsp\;&nbsp\;&nbsp\;<span style="background:yellow\;">+1 929 436 2866 US (New York)</span></span><br />\n<span style="color:#c00000\;">&nbsp\;&nbsp\;&nbsp\;&nbsp\;&nbsp\;&nbsp\;&nbsp\; +1 301 715 8592 US (Germantown)</span><br />\n<span style="color:#c00000\;">&nbsp\;&nbsp\;&nbsp\;&nbsp\;&nbsp\;&nbsp\;&nbsp\; +1 312 626 6799 US (Chicago)</span><br />\n<span style="color:#c00000\;">&nbsp\;&nbsp\;&nbsp\;&nbsp\;&nbsp\;&nbsp\;&nbsp\; +1 669 900 6833 US (San Jose)</span><br />\n<span style="color:#c00000\;">&nbsp\;&nbsp\;&nbsp\;&nbsp\;&nbsp\;&nbsp\;&nbsp\; +1 253 215 8782 US (Tacoma)</span><br />\n<span style="color:#c00000\;">&nbsp\;&nbsp\;&nbsp\;&nbsp\;&nbsp\;&nbsp\;&nbsp\; +1 346 248 7799 US (Houston)</span><br />\n<span style="color:#c00000\;">Meeting ID:&nbsp\;<span style="background:yellow\;">818 1884 7613</span></span><br />\n<span style="color:#c00000\;">Password:&nbsp\;<span style="background:yellow\;">324393</span></span><br />\n<span style="color:#c00000\;">Find your local number:&nbsp\;<a data-saferedirecturl="https://www.google.com/url?q=https://us02web.zoom.us/u/kc1FwOfyL4&amp\;source=gmail&amp\;ust=1592082708991000&amp\;usg=AFQjCNFLso-743KUi1NYAMcfFr_Yw6NnXA" href="https://us02web.zoom.us/u/kc1FwOfyL4" style="color:rgb(17\, 85\, 204)\;" target="_blank">https://us02web.zoom.us/u/<wbr />kc1FwOfyL4</a></span></div>\n
LOCATION:Chamber CVB Office 106 Commerce Commons Commerce\, GA 30529
UID:e.1877.1987
SEQUENCE:3
DTSTAMP:20260424T001653Z
URL:http://bankscounty.preview.gochambermaster.com/events/details/board-of-directors-meeting-06-16-2020-1987
END:VEVENT

END:VCALENDAR
