BEGIN:VCALENDAR
VERSION:2.0
PRODID:-//ChamberMaster//Event Calendar 2.0//EN
METHOD:PUBLISH
X-PUBLISHED-TTL:P3D
REFRESH-INTERVAL:P3D
CALSCALE:GREGORIAN
BEGIN:VEVENT
DTSTART:20220507T140000Z
DTEND:20220507T170000Z
X-MICROSOFT-CDO-ALLDAYEVENT:FALSE
SUMMARY:Banks County Park & Recreation Host Special Mother's Day Special
DESCRIPTION:Mother's Day Special Saturday\, May 7th 2022.  What to expect:\n\nMakeup Artist\, Nails/lashes\, Massage Therapist\, Arts and Crafts\, Delicious food and sweets\, Jewelry\, clothing and health and beauty. Come and be papered.\n\nLooking for vendors in all these categories.  \n\nVendors wanted!\n\n\n\nWe would like to throw a special Mother's Day event Saturday\, May 7th 2022!\n\n\n\nIf you\, or anyone you know\, is interested in being a vendor please send an email to avetter@co.banks.ga.us.\n\nVendor Fee is FREE
X-ALT-DESC;FMTTYPE=text/html:Mother&#39\;s Day Special Saturday\, May 7th 2022.&nbsp\; What to expect:<br />\nMakeup Artist\, Nails/lashes\, Massage Therapist\, Arts and Crafts\, Delicious food and sweets\, Jewelry\, clothing and health and beauty. Come and be papered.<br />\nLooking for vendors in all these categories.&nbsp\;&nbsp\;<br />\n<span style="color: rgb(5\, 5\, 5)\; font-family: &quot\;Segoe UI Historic&quot\;\, &quot\;Segoe UI&quot\;\, Helvetica\, Arial\, sans-serif\; font-size: 30px\; background-color: rgb(255\, 255\, 255)\;">Vendors wanted!</span><br style="color: rgb(5\, 5\, 5)\; font-family: &quot\;Segoe UI Historic&quot\;\, &quot\;Segoe UI&quot\;\, Helvetica\, Arial\, sans-serif\; font-size: 30px\; background-color: rgb(255\, 255\, 255)\;" />\n<br style="color: rgb(5\, 5\, 5)\; font-family: &quot\;Segoe UI Historic&quot\;\, &quot\;Segoe UI&quot\;\, Helvetica\, Arial\, sans-serif\; font-size: 30px\; background-color: rgb(255\, 255\, 255)\;" />\n<span style="color: rgb(5\, 5\, 5)\; font-family: &quot\;Segoe UI Historic&quot\;\, &quot\;Segoe UI&quot\;\, Helvetica\, Arial\, sans-serif\; font-size: 30px\; background-color: rgb(255\, 255\, 255)\;">We would like to throw a special Mother&rsquo\;s Day event Saturday\, May 7th 2022!</span><br style="color: rgb(5\, 5\, 5)\; font-family: &quot\;Segoe UI Historic&quot\;\, &quot\;Segoe UI&quot\;\, Helvetica\, Arial\, sans-serif\; font-size: 30px\; background-color: rgb(255\, 255\, 255)\;" />\n<br style="color: rgb(5\, 5\, 5)\; font-family: &quot\;Segoe UI Historic&quot\;\, &quot\;Segoe UI&quot\;\, Helvetica\, Arial\, sans-serif\; font-size: 30px\; background-color: rgb(255\, 255\, 255)\;" />\n<span style="color: rgb(5\, 5\, 5)\; font-family: &quot\;Segoe UI Historic&quot\;\, &quot\;Segoe UI&quot\;\, Helvetica\, Arial\, sans-serif\; font-size: 30px\; background-color: rgb(255\, 255\, 255)\;">If you\, or anyone you know\, is interested in being a vendor please send an email to avetter@co.banks.ga.us.<br />\nVendor Fee is FREE</span>
LOCATION:Banks County Park & Recreation 607 Thompson Street Homer\, GA 30547
UID:e.1877.4943
SEQUENCE:3
DTSTAMP:20260421T062053Z
URL:http://bankscounty.preview.gochambermaster.com/events/details/banks-county-park-recreation-host-special-mother-s-day-special-4943
END:VEVENT

END:VCALENDAR
