BEGIN:VCALENDAR
VERSION:2.0
PRODID:-//ChamberMaster//Event Calendar 2.0//EN
METHOD:PUBLISH
X-PUBLISHED-TTL:P3D
REFRESH-INTERVAL:P3D
CALSCALE:GREGORIAN
BEGIN:VEVENT
DTSTART:20210529T000000Z
DTEND:20210529T020000Z
X-MICROSOFT-CDO-ALLDAYEVENT:FALSE
SUMMARY:Banks County High School Graduation Ceremony
DESCRIPTION:You ae invited to join the Banks County High School Graduation Ceremony\, Class of 2021 as they celebrate their graduation.
X-ALT-DESC;FMTTYPE=text/html:<span style="font-size:22px\;">You ae invited to join the Banks County High School Graduation Ceremony\, Class of 2021 as they celebrate their graduation.&nbsp\;&nbsp\;</span>
LOCATION:1486-A Historic Homer Hwy Homer\, GA 30547
UID:e.1877.4704
SEQUENCE:3
DTSTAMP:20260422T235458Z
URL:http://bankscounty.preview.gochambermaster.com/events/details/banks-county-high-school-graduation-ceremony-4704
END:VEVENT

END:VCALENDAR
