BEGIN:VCALENDAR
VERSION:2.0
PRODID:-//ChamberMaster//Event Calendar 2.0//EN
METHOD:PUBLISH
X-PUBLISHED-TTL:P3D
REFRESH-INTERVAL:P3D
CALSCALE:GREGORIAN
BEGIN:VEVENT
DTSTART:20210206T120000Z
DTEND:20210207T040000Z
X-MICROSOFT-CDO-ALLDAYEVENT:FALSE
SUMMARY:Atlanta Dragway Swap Meet
DESCRIPTION:Mark your calendars for the next Northeast Georgia Swap Meet at Atlanta Dragway
X-ALT-DESC;FMTTYPE=text/html:<span style="font-size:18px\;">Mark your calendars for the next Northeast Georgia Swap Meet at Atlanta Dragway</span>
LOCATION:Atlanta Dragway 500 E. Ridgeway Rd Commerce\, GA 30529
UID:e.1877.4659
SEQUENCE:3
DTSTAMP:20260423T052157Z
URL:http://bankscounty.preview.gochambermaster.com/events/details/atlanta-dragway-swap-meet-4659
END:VEVENT

END:VCALENDAR
