BEGIN:VCALENDAR
VERSION:2.0
PRODID:-//ChamberMaster//Event Calendar 2.0//EN
METHOD:PUBLISH
X-PUBLISHED-TTL:P3D
REFRESH-INTERVAL:P3D
CALSCALE:GREGORIAN
BEGIN:VEVENT
DTSTART:20200306T230000Z
DTEND:20200307T040000Z
X-MICROSOFT-CDO-ALLDAYEVENT:FALSE
SUMMARY:Atlanta Dragway Fast Friday
DESCRIPTION:Fast Friday is an Atlanta Dragway test-and-tune program on select Fridays open to anyone who meets the following requirements:\n\n\n\n18 years of age with valid state vehicle operating license. Anyone 16-17 years of age must have a fully executed Parent/Guardian Release and Waiver on file. [available at the raceway business office or through SE Division 2 business office]\n\nDriver must have a valid state vehicle operating license.\n\nLong pants and sleeved shirt (no tank tops)\; Full shoes (no open-toe or open-heel shoes).
X-ALT-DESC;FMTTYPE=text/html:<span style="color: rgb(29\, 33\, 41)\; font-family: Helvetica\, Arial\, sans-serif\; font-size: 14px\; white-space: pre-wrap\; background-color: rgb(255\, 255\, 255)\;">Fast Friday is an Atlanta Dragway test-and-tune program on select Fridays open to anyone who meets the following requirements:</span><br style="color: rgb(29\, 33\, 41)\; font-family: Helvetica\, Arial\, sans-serif\; font-size: 14px\; white-space: pre-wrap\; background-color: rgb(255\, 255\, 255)\;" />\n<br style="color: rgb(29\, 33\, 41)\; font-family: Helvetica\, Arial\, sans-serif\; font-size: 14px\; white-space: pre-wrap\; background-color: rgb(255\, 255\, 255)\;" />\n<span style="color: rgb(29\, 33\, 41)\; font-family: Helvetica\, Arial\, sans-serif\; font-size: 14px\; white-space: pre-wrap\; background-color: rgb(255\, 255\, 255)\;">18 years of age with valid state vehicle operating license. Anyone 16-17 years of age must have a fully executed Parent/Guardian Release and Waiver on file. [available at the raceway business office or through SE Division 2 business office]</span><br style="color: rgb(29\, 33\, 41)\; font-family: Helvetica\, Arial\, sans-serif\; font-size: 14px\; white-space: pre-wrap\; background-color: rgb(255\, 255\, 255)\;" />\n<span style="color: rgb(29\, 33\, 41)\; font-family: Helvetica\, Arial\, sans-serif\; font-size: 14px\; white-space: pre-wrap\; background-color: rgb(255\, 255\, 255)\;">Driver must have a valid state vehicle operating license.</span><br style="color: rgb(29\, 33\, 41)\; font-family: Helvetica\, Arial\, sans-serif\; font-size: 14px\; white-space: pre-wrap\; background-color: rgb(255\, 255\, 255)\;" />\n<span style="color: rgb(29\, 33\, 41)\; font-family: Helvetica\, Arial\, sans-serif\; font-size: 14px\; white-space: pre-wrap\; background-color: rgb(255\, 255\, 255)\;">Long pants and sleeved shirt (no tank tops)\; Full shoes (no open-toe or open-heel shoes).</span>
LOCATION:Atlanta Dragway 500 E Ridgeway Rd Commerce\, GA 30529
UID:e.1877.4377
SEQUENCE:3
DTSTAMP:20260424T120048Z
URL:http://bankscounty.preview.gochambermaster.com/events/details/atlanta-dragway-fast-friday-4377
END:VEVENT

END:VCALENDAR
