BEGIN:VCALENDAR
VERSION:2.0
PRODID:-//ChamberMaster//Event Calendar 2.0//EN
METHOD:PUBLISH
X-PUBLISHED-TTL:P3D
REFRESH-INTERVAL:P3D
CALSCALE:GREGORIAN
BEGIN:VEVENT
DTSTART:20211203T220000Z
DTEND:20211204T003000Z
X-MICROSOFT-CDO-ALLDAYEVENT:FALSE
SUMMARY:A Downtown Clarkesville Christmas
DESCRIPTION:The most wonderful time of the year and the most wonderful place to be! There will be photos with Santa\, live music all throughout the area\, roasted marshmallows & hot cocoa and our very first cookie crawl. Buy a box\, visit the participating merchants and go home with yummy treats! And of course\, the evening capped off with the tree lighting!
X-ALT-DESC;FMTTYPE=text/html:<span style="color: rgb(5\, 5\, 5)\; font-family: &quot\;Segoe UI Historic&quot\;\, &quot\;Segoe UI&quot\;\, Helvetica\, Arial\, sans-serif\; font-size: 24.375px\; background-color: rgb(255\, 255\, 255)\;">The most wonderful time of the year and the most wonderful place to be! There will be photos with Santa\, live music all throughout the area\, roasted marshmallows &amp\; hot cocoa and our very first cookie crawl. Buy a box\, visit the participating merchants and go home with yummy treats! And of course\, the evening capped off with the tree lighting!</span>
LOCATION:Downtown Clarkesville\, GA
UID:e.1877.4900
SEQUENCE:3
DTSTAMP:20260422T011306Z
URL:http://bankscounty.preview.gochambermaster.com/events/details/a-downtown-clarkesville-christmas-4900
END:VEVENT

END:VCALENDAR
