BEGIN:VCALENDAR
VERSION:2.0
PRODID:-//ChamberMaster//Event Calendar 2.0//EN
METHOD:PUBLISH
X-PUBLISHED-TTL:P3D
REFRESH-INTERVAL:P3D
CALSCALE:GREGORIAN
BEGIN:VEVENT
DTSTART:20230903T150000Z
DTEND:20230903T210000Z
X-MICROSOFT-CDO-ALLDAYEVENT:FALSE
SUMMARY:2023 HOMER LABOR DAY FESTIVAL
DESCRIPTION:2023 Homer Festival Presented by the Homer Downtown Development Authority @ The Town of Homer.  Mark your Calendar's for this fun 3 day  family event !  Friday\, Saturday and Sunday / Sept. 1\,2\,3\, 2023. They will be activities\, Friday Pep Rally starting at 6 pm.  Saturday morning parade\, and Sunday morning church service.  Bounce Houses\, Train Rides\, mechanical bull rides\, Axe throwing\, Food Trucks and Crafts.  LIVE entertainment.
X-ALT-DESC;FMTTYPE=text/html:2023 Homer Festival Presented by the Homer Downtown Development Authority @ The Town of Homer.&nbsp\; Mark your Calendar&#39\;s for this fun 3 day&nbsp\; family event !&nbsp\; Friday\, Saturday and Sunday / Sept. 1\,2\,3\, 2023. They will be activities\, Friday Pep Rally starting at 6 pm.&nbsp\; Saturday morning parade\, and Sunday morning church service.&nbsp\; Bounce Houses\, Train Rides\, mechanical bull rides\, Axe throwing\, Food Trucks and Crafts.&nbsp\; LIVE entertainment.&nbsp\;
LOCATION:Downtown Homer - On Historic Homer Highway
UID:e.1877.5073
SEQUENCE:3
DTSTAMP:20260420T012900Z
URL:http://bankscounty.preview.gochambermaster.com/events/details/2023-homer-labor-day-festival-09-03-2023-5073
END:VEVENT

END:VCALENDAR
