BEGIN:VCALENDAR
VERSION:2.0
PRODID:-//ChamberMaster//Event Calendar 2.0//EN
METHOD:PUBLISH
X-PUBLISHED-TTL:P3D
REFRESH-INTERVAL:P3D
CALSCALE:GREGORIAN
BEGIN:VEVENT
DTSTART:20220205T230000Z
DTEND:20220206T030000Z
X-MICROSOFT-CDO-ALLDAYEVENT:FALSE
SUMMARY:2022 Banks County Chamber CVB Annual Dinner
DESCRIPTION:Please Join us this year at our 2022 Banks County Chamber Annual Dinner\, as we have dinner\, music\, silent auction and awards.  We will be recognizing  Banks County Citizen and Business of the Year. This year's Theme will be the 50's theme\, so come dressed in your poodle skirts . . As we celebrate in a relaxed atmosphere and have a great time!  \n\nYou can register at http://www.bankscountyga.biz/events/details/2022-banks-county-chamber-cvb-annual-dinner-4746.  Or contact the office 706-335-4866
X-ALT-DESC;FMTTYPE=text/html:<br />\n<span style="color: rgb(51\, 51\, 51)\; font-family: sans-serif\, Arial\, Verdana\, &quot\;Trebuchet MS&quot\;\; font-size: 13px\; background-color: rgb(255\, 255\, 255)\;">Please Join us this year at our 2022 Banks County Chamber Annual Dinner\, as we have dinner\, music\, silent auction and awards.&nbsp\; We will be recognizing&nbsp\; Banks County Citizen and Business of the Year. This year&#39\;s Theme will be the 50&#39\;s theme\, so come dressed in your poodle skirts . . As we celebrate in a relaxed atmosphere and have a great time!&nbsp\;&nbsp\;</span><br />\n<span style="font-size:20px\;">You can register at&nbsp\;</span><span style="font-size:18px\;">http://www.bankscountyga.biz/events/details/2022-banks-county-chamber-cvb-annual-dinner-4746.&nbsp\; Or contact the office 706-335-4866</span>
LOCATION:Grant Hill Farms\, Venue 29 Waynes Lane Commerce\, GA 30530
UID:e.1877.4746
SEQUENCE:3
DTSTAMP:20260422T011343Z
URL:http://bankscounty.preview.gochambermaster.com/events/details/2022-banks-county-chamber-cvb-annual-dinner-4746
END:VEVENT

END:VCALENDAR
