BEGIN:VCALENDAR
VERSION:2.0
PRODID:-//ChamberMaster//Event Calendar 2.0//EN
METHOD:PUBLISH
X-PUBLISHED-TTL:P3D
REFRESH-INTERVAL:P3D
CALSCALE:GREGORIAN
BEGIN:VEVENT
DTSTART:20200111T230000Z
DTEND:20200112T030000Z
X-MICROSOFT-CDO-ALLDAYEVENT:FALSE
SUMMARY:2020 Banks County Chamber Annual Dinner
DESCRIPTION:Please Join us this year at our 2020 Banks County Chamber Annual Dinner\, as we have dinner\, music\,  Casino.  We will be recognizing  Banks County Citizen  and Business of the Year.
X-ALT-DESC;FMTTYPE=text/html:Please Join us this year at our 2020 Banks County Chamber Annual Dinner\, as we have dinner\, music\,&nbsp\; Casino.&nbsp\; We will be recognizing&nbsp\; Banks County Citizen&nbsp\; and Business of the Year.
LOCATION:Grant Hill Farms 29 Waynes Lane Commerce\, GA 30530
UID:e.1877.4338
SEQUENCE:3
DTSTAMP:20260424T183638Z
URL:http://bankscounty.preview.gochambermaster.com/events/details/2020-banks-county-chamber-annual-dinner-4338
END:VEVENT

END:VCALENDAR
