BEGIN:VCALENDAR
VERSION:2.0
PRODID:-//ChamberMaster//Event Calendar 2.0//EN
METHOD:PUBLISH
X-PUBLISHED-TTL:P3D
REFRESH-INTERVAL:P3D
CALSCALE:GREGORIAN
BEGIN:VEVENT
DTSTART:20220726T130000Z
DTEND:20220727T200000Z
X-MICROSOFT-CDO-ALLDAYEVENT:FALSE
SUMMARY:2 - Day Small Stirrup Camp
DESCRIPTION:This 2-day camp session is a preparatory camp for the comprehensive riding program\, for 6-8 year olds. The fee is $125 per rider. More than just riding instruction\, campers will learn about horse psychology\, safety precautions\, horse health\, daily horse care\, grooming and tacking\, and many other horsey skills! To check availability and request registration form\, email CJ@GroveRiverRanch.com\n \n\n\n \n\nGRR is a full service equestrian center and retreat for horse enthusiasts of all levels of ability and all disciplines. Visit the web site http://GroveRiverRanch.com
X-ALT-DESC;FMTTYPE=text/html:<span style="color: rgb(5\, 5\, 5)\; font-family: &quot\;Segoe UI Historic&quot\;\, &quot\;Segoe UI&quot\;\, Helvetica\, Arial\, sans-serif\; font-size: 30px\; background-color: rgb(255\, 255\, 255)\;">This 2-day camp session is a preparatory camp for the comprehensive riding program\, for 6-8 year olds. The fee is $125 per rider. More than just riding instruction\, campers will learn about horse psychology\, safety precautions\, horse health\, daily horse care\, grooming and tacking\, and many other horsey skills! To check availability and request registration form\, email CJ@GroveRiverRanch.com</span>\n<div>&nbsp\;</div>\n\n<div>\n<div class="gl3lb2sf" style="height: 16px\; font-family: &quot\;Segoe UI Historic&quot\;\, &quot\;Segoe UI&quot\;\, Helvetica\, Arial\, sans-serif\; color: rgb(28\, 30\, 33)\; font-size: 12px\; background-color: rgb(255\, 255\, 255)\;">&nbsp\;</div>\n\n<div class="kvgmc6g5 cxmmr5t8 oygrvhab hcukyx3x c1et5uql" style="overflow-wrap: break-word\; margin: 0px\; font-family: inherit\;"><span class="d2edcug0 hpfvmrgz qv66sw1b c1et5uql lr9zc1uh a8c37x1j fe6kdd0r mau55g9w c8b282yb keod5gw0 nxhoafnm aigsh9s9 d3f4x2em iv3no6db jq4qci2q a3bd9o3v b1v8xokw oo9gr5id" dir="auto" style="line-height: 1.3333\; display: block\; overflow-wrap: break-word\; max-width: 100%\; min-width: 0px\; font-size: 0.9375rem\; font-family: &quot\;Segoe UI Historic&quot\;\, &quot\;Segoe UI&quot\;\, Helvetica\, Arial\, sans-serif\; color: var(--primary-text)\; word-break: break-word\; background-color: rgb(255\, 255\, 255)\;">GRR is a full service equestrian center and retreat for horse enthusiasts of all levels of ability and all disciplines. Visit the web site&nbsp\;<a class="oajrlxb2 g5ia77u1 qu0x051f esr5mh6w e9989ue4 r7d6kgcz rq0escxv nhd2j8a9 nc684nl6 p7hjln8o kvgmc6g5 cxmmr5t8 oygrvhab hcukyx3x jb3vyjys rz4wbd8a qt6c0cv9 a8nywdso i1ao9s8h esuyzwwr f1sip0of lzcic4wl gpro0wi8 py34i1dx" href="http://groveriverranch.com/?fbclid=IwAR3m8rxVR1F9g70flhFNcXQaWgAIoVhokSg7bWzUJbFEfS7unCd52-8MPfY" rel="nofollow noopener" role="link" style="cursor: pointer\; text-decoration-line: none\; outline: none\; list-style: none\; border-width: 0px\; border-style: initial\; border-color: initial\; padding: 0px\; margin: 0px\; touch-action: manipulation\; background-color: transparent\; text-align: inherit\; display: inline\; -webkit-tap-highlight-color: transparent\; box-sizing: border-box\; font-family: inherit\;" tabindex="0" target="_blank">http://GroveRiverRanch.com</a></span></div>\n</div>\n
LOCATION:Grove River Ranch 345 Hickory Flat Dr\, Gillsville\, GA
UID:e.1877.4937
SEQUENCE:3
DTSTAMP:20260421T031335Z
URL:http://bankscounty.preview.gochambermaster.com/events/details/2-day-small-stirrup-camp-4937
END:VEVENT

END:VCALENDAR
